BEGIN:VCALENDAR
VERSION:2.0
PRODID:-//ChamberMaster//Event Calendar 2.0//EN
METHOD:PUBLISH
X-PUBLISHED-TTL:P3D
REFRESH-INTERVAL:P3D
CALSCALE:GREGORIAN
BEGIN:VEVENT
DTSTART:20170615T233000Z
DTEND:20170616T010000Z
X-MICROSOFT-CDO-ALLDAYEVENT:FALSE
SUMMARY:Thursday Night Canoe & Kayak Runs
DESCRIPTION:Paddle and race across Lake Ellyn in these Buoy Run Races\, a new event at the lake. Registration is required.
X-ALT-DESC;FMTTYPE=text/html:Paddle and race across Lake Ellyn in these Buoy Run Races\, a new event at the lake. Registration is required.
LOCATION:Lake Ellyn Park 645 Lenox Road Glen Ellyn\, IL 60137
UID:e.1124.7214
SEQUENCE:3
DTSTAMP:20260424T230056Z
URL:http://glenellyn.preview.chambermaster.com/events/details/thursday-night-canoe-kayak-runs-7214
END:VEVENT

END:VCALENDAR
